BEGIN:VCALENDAR
VERSION:2.0
PRODID:-//Suomen Hoitolatukku - ECPv6.15.10//NONSGML v1.0//EN
CALSCALE:GREGORIAN
METHOD:PUBLISH
X-WR-CALNAME:Suomen Hoitolatukku
X-ORIGINAL-URL:https://hoitolatukku.fi
X-WR-CALDESC:Events for Suomen Hoitolatukku
REFRESH-INTERVAL;VALUE=DURATION:PT1H
X-Robots-Tag:noindex
X-PUBLISHED-TTL:PT1H
BEGIN:VTIMEZONE
TZID:Europe/Helsinki
BEGIN:DAYLIGHT
TZOFFSETFROM:+0200
TZOFFSETTO:+0300
TZNAME:EEST
DTSTART:20250330T010000
END:DAYLIGHT
BEGIN:STANDARD
TZOFFSETFROM:+0300
TZOFFSETTO:+0200
TZNAME:EET
DTSTART:20251026T010000
END:STANDARD
BEGIN:DAYLIGHT
TZOFFSETFROM:+0200
TZOFFSETTO:+0300
TZNAME:EEST
DTSTART:20260329T010000
END:DAYLIGHT
BEGIN:STANDARD
TZOFFSETFROM:+0300
TZOFFSETTO:+0200
TZNAME:EET
DTSTART:20261025T010000
END:STANDARD
BEGIN:DAYLIGHT
TZOFFSETFROM:+0200
TZOFFSETTO:+0300
TZNAME:EEST
DTSTART:20270328T010000
END:DAYLIGHT
BEGIN:STANDARD
TZOFFSETFROM:+0300
TZOFFSETTO:+0200
TZNAME:EET
DTSTART:20271031T010000
END:STANDARD
END:VTIMEZONE
BEGIN:VEVENT
DTSTART;TZID=Europe/Helsinki:20260421T100000
DTEND;TZID=Europe/Helsinki:20260421T140000
DTSTAMP:20260421T124611
CREATED:20260120T122008Z
LAST-MODIFIED:20260305T100858Z
UID:2160000048-1776765600-1776780000@hoitolatukku.fi
SUMMARY:Skin Candy: Aloittavan karvanpoistajan tekniikkakoulutus
DESCRIPTION:Skin Candyn peruskoulutuksessa käydään läpi kaikki tarpeellinen mitä sinun täytyy tietää karvanpoistosta\, Skin Candy -tuotteista\, Candying-tekniikasta\, Xylitolista sekä tuotteiden ja hoitojen myynnistä sekä markkinoinnista. Teemme myös yhdessä harjoittelua kameran välityksellä. Voit pyytää harjoitteluun itsellesi mallin tai halutessasi harjoitella myös itsellesi. Koulutuksen jälkeen harjoittelua kannattaa jatkaa mahdollisimman ahkerasti kotona tai hoitolassa. \n📩 Kurssimateriaali toimitetaan sähköisesti sähköpostilla koulusta edeltävänä päivänä. \n🎥Kurssi tallennetaan ja kurssille osallistuvat saavat sähköpostiinsa linkin\, josta voi katsoa tallenteen kurssin jälkeen. Tallenne on katsottavissa viikon ajan\, jonka jälkeen se poistuu tallennuspalvelusta. KouluttajaTuija Loukimo on Candyingiin makeaan maailmaan ihastunut terveydenhoitoalan ammattilainen\, joka on työskennellyt alalla yli 30 vuoden ajan. Tuija on koulutukseltaan urheiluhieroja sekä ensihoitaja/sairaanhoitaja AMK. Hänellä on intohimona hoitaa asiakkaita kokonaisvaltaisesti ja tuottaa heille hyvää oloa sekä liikunnan iloa. HintaMaksuton jos sinulla on jo tarvittavat tuotteet. Jos tuotteita ei ole\, katso alta itsellesi sopiva aloituspaketti. KenelleAlalla toimiva kosmetologi\, jalkojenhoitaja tai hieroja \nKoulutuksessa sinulla täytyy olla käytössäsi vähintään seuraavat Skin Candy tuotteet:1 x pehmeä Skin Candy- massa (Smart Soft\, Mimosa tai Mimosa Soft)\n\n1 x kovempi Skin Candy-massa (Smart Hard\, Cookie tai Chap)\n\n1 x Candying Dust\n\n1 x ihon puhdistustuote (Cleansing Gel tai Skin Cleanser Caramel lotion)\n\n1 x hoitovoide (Smoothing Lotion tai Caramel Body Lotion)Mikäli sinulla ei vielä ole käytössä Skin Candy-tuotteita\, on meillä tarjolla useampi vaihtoehto aloituspaketiksi.  Ammattimaisen karvanpoiston aloittamiseen suosittelemme Skin Candy Box Pro vaihtoehtoa.76492 Skin Candy Box Mini (HUOM! Ei sisällä lämmitintä)\n\n76400 Skin Candy Box Pro\, sisältää lämmittimen\n\n76491 Sarjanvaihtajan Skin Candy Box (HUOM! Ei sisällä lämmitintä)\n\n764685 Candy-lämmitin\, turkoosi▶️ Tarvikkeet tilataan Hoitolatukusta\, huolehdithan että tilaat ne ajoissa\, jotta ovat käytettävissäsi koulutuspäivänä!   🩷 Tiesithän että Scandinavian Skin Candy on Hoitolatukun itse kehittämä tuotesarja. Olemme ylpeitä oivalluksestamme yhdistää suomalainen xylitoli karvanpoistomassoihimme\, mikä tekee karvanpoistosta hygieenisempää\, kosteuttavampaa ja helpompaa.
URL:https://hoitolatukku.fi/koulutus/skin-candy-aloittavan-karvanpoistajan-tekniikkakoulutus-3/
CATEGORIES:Koulutukset,Skin Candy
ATTACH;FMTTYPE=image/png:https://hoitolatukku.fi/wp-content/uploads/2026/01/SC-peruskoulutus-banneri.png
LOCATION:https://hoitolatukku.fi/koulutus/skin-candy-aloittavan-karvanpoistajan-tekniikkakoulutus-3/
END:VEVENT
BEGIN:VEVENT
DTSTART;TZID=Europe/Helsinki:20260421T130000
DTEND;TZID=Europe/Helsinki:20260421T140000
DTSTAMP:20260421T124611
CREATED:20260306T081912Z
LAST-MODIFIED:20260306T081912Z
UID:2160000067-1776776400-1776780000@hoitolatukku.fi
SUMMARY:Jalkojen kevennysmateriaalit -esittely
DESCRIPTION:Jalkojen kevennysmateriaalit tutuksi! 👣✨\nValikoimastamme löytyy laaja skaala erilaisia keventämiseen soveltuvia materiaaleja\,\njoiden avulla ihoa voidaan suojata kitkalta\, hankaukselta ja kuormitukselta. \nKeventämisessä pyritään vähentämään ihovaurioon tai\nkipukohtaan kohdistuvaa painetta\, joten käymme aluksi läpi\, miten onnistumme siinä.\nTämän jälkeen esittelyssä ovat erilaiset materiaalit\, niiden ominaisuudet ja käyttötarkoitukset\nsekä vinkkejä\, mihin käyttöön eri materiaalit soveltuvat.\nTuote-esittelyssä saat konkreettisia ideoita ja vinkkejä materiaalien hyödyntämiseen\nosana omaa ammatillista työtäsi jalkaterveyden edistämiseksi. \n💫 Esittelyssä:\n💠 Geelikevennykset\n💠 Kevennysarkit\n💠 Huopatuotteet\n💠 Vaahtomuovikevennykset \nKouluttaja\nTiina Rouvali on Hoitolatukun moniosaaja\, ja toimii mm. Iloiset Varpaat-tuotesarjan brändivastaavana. Tiinalla on useita koulutuksia ja tutkintoja taskussa\, mutta erityisesti jalkojen hyvinvointi on Tiinalla lähellä sydäntä. Hän toimii itse jalkahoitajana ja jalkaterapeuttina. \n\n✨Tervetuloa oivaltamaan – ja kasvattamaan mahdollisuuksiasi ammattilaisena! \n🎥 Tuote-esittely tallennetaan\, ja kaikki ilmoittautuneet saavat tallenteen sähköpostiinsa esittelyn jälkeen.
URL:https://hoitolatukku.fi/koulutus/jalkojen-kevennysmateriaalit-esittely-3/
CATEGORIES:Esittelyt,Jalkojenhoito
ATTACH;FMTTYPE=image/png:https://hoitolatukku.fi/wp-content/uploads/2025/12/kevennys-banneri.png
LOCATION:https://hoitolatukku.fi/koulutus/jalkojen-kevennysmateriaalit-esittely-3/
END:VEVENT
BEGIN:VEVENT
DTSTART;TZID=Europe/Helsinki:20260421T190000
DTEND;TZID=Europe/Helsinki:20260421T203000
DTSTAMP:20260421T124611
CREATED:20251202T133530Z
LAST-MODIFIED:20260305T100803Z
UID:2160000014-1776798000-1776803400@hoitolatukku.fi
SUMMARY:CLINICCARE - sarjaesittely
DESCRIPTION:Haetko ihonhoitosarjaa\, joka toimii ilman ”poppakonsteja”?\nAmmattisarjaa\, joka ei pidä sisällään mitään turhaa ja soveltuu niin peruskasvohoitoihin kuin erikoishoitoihin? \nInnovatiivinen ja tehokas Cliniccaresarja on juuri sitä. \nCliniccare on korkean teknologian kosmeseuttinen ammattikosmetiikkasarja\, joka takaa välittömät ja näkyvät vaikutukset. Matalamolekyylinen hyaluronihappo ja iholle tärkeät silkkipeptiidit pitävät lupauksensa. \nOsallistu nyt Cliniccaren sarjaesittelyyn verkossa ja ota valikoimiisi yksi parhaimmista uudistavista ihonhoidoista. \nKoulutuksessa pääset tutustumaan Cliniccare ammatti- ja kotihoitotuotteisiin sekä niiden käyttöön. \n✨ ✨ \nPsst… Tiesithän\, että Cliniccare on monipuolinen ja ihanteellinen sarja täydentämään toista hoitolasarjaasi. Sarjaan kuuluu steriilit tuotteet\, kemialliset kuorinnat ja se soveltuu laitehoitoihin. \nKouluttaja\nKrista Anturamäki on toiminut 30 vuoden ajan eli vuodesta 1992 Cidesco SKY-kosmetologina Tampereella. Ihonhoito ja siihen tiiviisti liittyvä kokonaisvaltainen hyvinvointi on ollut Kristan intohimon kohde nämä vuodet. Lisäksi Krista on suorittanut Kiinalaisen lääketieteen asiantuntijatutkinnon. Vuosien aikana hän on erikoistunut erilaisten iho-ongelmien hoitoon ja tekee tiiviisti yhteistyötä lääkärien kanssa parhaan hoitotuloksen saavuttamiseksi. Vuosien aikana Krista on kouluttautunut monien erikoishoitojen saloihin ja jakaa osaamistaan toimimalla erikoishoitojen kouluttajana. \n\n✨ Sarjan hoidot on helppo omaksua ja pääset heti aloittamaan. \n📍 Koulutuspaikka ZOOM \n🎥 Koulutus tallennetaan\, ja tallenne lähetetään kaikille ilmoittautuneille sähköpostiin.
URL:https://hoitolatukku.fi/koulutus/cliniccare-sarjaesittely-2/
CATEGORIES:CLINICCARE,Esittelyt,Kasvohoito
ATTACH;FMTTYPE=image/jpeg:https://hoitolatukku.fi/wp-content/uploads/2025/06/cliniccare-sarjaesittely-banneri.jpg
LOCATION:https://hoitolatukku.fi/koulutus/cliniccare-sarjaesittely-2/
END:VEVENT
END:VCALENDAR